BEGIN:VCALENDAR
VERSION:2.0
PRODID:-//wp-events-plugin.com//7.2.3.1//EN
TZID:Europe/Paris
X-WR-TIMEZONE:Europe/Paris
BEGIN:VEVENT
UID:44@afaf.asso.fr
DTSTART;TZID=Europe/Paris:20251102T073000
DTEND;TZID=Europe/Paris:20251102T130000
DTSTAMP:20250925T160841Z
URL:https://www.afaf.asso.fr/events/matinee-saucisses-patates-au-profit-de
 -lafaf/
SUMMARY:Matinée saucisses-patates au profit de l'AFAF
DESCRIPTION:Cette année\, l'association " Cha'moove et toi " organise le 2
  novembre une matinée "saucisses-patates".\n\nLe repas\, uniquement fait 
 avec des produits locaux\,  comprend plat\, fromage\, tarte au pommes et 
 café.\n\nEt tout cela pour seulement 12€ !!\n\nVous pourrez déjeuner s
 ur place ou emporter votre repas (prévoir ses contenants).\n\nVous êtes 
 attendus nombreux à partir de 7h30 à la salle des fêtes de Bellegarde e
 n Forez.\n\nL'ensemble des bénéfices sera reversé à l'AFAF !\nAlors\, 
 n'attendez plus et réservez au 06 95 08 75 92\n&nbsp\;
ATTACH;FMTTYPE=image/jpeg:https://www.afaf.asso.fr/wp-content/uploads/2025
 /09/Chamoove-et-toi.png
CATEGORIES:Action solidaire
LOCATION:Salle des fêtes de Bellegarde en Forez\, 41 Rue de la Salle des F
 êtes\, Bellegarde-en-Forez\, 42\, 42210\, France
GEO:45.647966;4.300403
X-APPLE-STRUCTURED-LOCATION;VALUE=URI;X-ADDRESS=41 Rue de la Salle des Fêt
 es\, Bellegarde-en-Forez\, 42\, 42210\, France;X-APPLE-RADIUS=100;X-TITLE=
 Salle des fêtes de Bellegarde en Forez:geo:45.647966,4.300403
END:VEVENT
BEGIN:VTIMEZONE
TZID:Europe/Paris
X-LIC-LOCATION:Europe/Paris
BEGIN:STANDARD
DTSTART:20251026T020000
TZOFFSETFROM:+0200
TZOFFSETTO:+0100
TZNAME:CET
END:STANDARD
END:VTIMEZONE
END:VCALENDAR