BEGIN:VCALENDAR
VERSION:2.0
PRODID:-//wp-events-plugin.com//7.2.3.1//EN
TZID:Europe/Paris
X-WR-TIMEZONE:Europe/Paris
BEGIN:VEVENT
UID:19@afaf.asso.fr
DTSTART;TZID=Europe/Paris:20241130T133000
DTEND;TZID=Europe/Paris:20241130T190000
DTSTAMP:20241002T085209Z
URL:https://www.afaf.asso.fr/events/marche-des-maladies-rares-2024/
SUMMARY:Marche des maladies rares 2024
DESCRIPTION:🗓️ La nouvelle édition de la marche des maladies rares se
  tiendra le 30 novembre prochain dans le cadre du Téléthon.\n\n📣 Cet
 te manifestation permet de donner de la visibilité à tous ceux qui en Fr
 ance sont atteints d’une maladie rare\, de sensibiliser le public à not
 re combat quotidien\, et de susciter des dons pour la recherche.\n🎉 La 
 Marche des maladies rares\, c'est aussi une grande fête et un lieu de ren
 contre et de partage.\n\n\n\n📍 Alors\, on vous donne rendez-vous sous l
 e panneau de l'Ataxie de Friedreich à 13h30 au Jardin du Luxembourg de Pa
 ris\, près du Kiosque à musique pour une marche de 7 kms dans les rues d
 e Paris.\n\n👚👖🧤 Dress code : on abandonne le orange pour revêtir
  les couleurs internationales des maladies rares : le rose\, le bleu et le
  vert.\n\n📝 Rejoignez-nous et inscrivez-vous avant le 18 octobre. Invit
 ez votre famille\, vos amis ! Plus nous serons nombreux\, plus notre voix 
 portera.\nHâte de vous retrouver ! On compte sur vous !\n\n
ATTACH;FMTTYPE=image/jpeg:https://www.afaf.asso.fr/wp-content/uploads/2024
 /10/ruban-maladies-rares.png
CATEGORIES:Rencontre adhérents
LOCATION:Kiosque à musique\, Jardin du Luxembourg\, Paris\, France
X-APPLE-STRUCTURED-LOCATION;VALUE=URI;X-ADDRESS=Jardin du Luxembourg\, Pari
 s\, France;X-APPLE-RADIUS=100;X-TITLE=Kiosque à musique:geo:0,0
END:VEVENT
BEGIN:VTIMEZONE
TZID:Europe/Paris
X-LIC-LOCATION:Europe/Paris
BEGIN:STANDARD
DTSTART:20241027T020000
TZOFFSETFROM:+0200
TZOFFSETTO:+0100
TZNAME:CET
END:STANDARD
END:VTIMEZONE
END:VCALENDAR