BEGIN:VCALENDAR
VERSION:2.0
PRODID:-//wp-events-plugin.com//7.2.3.1//EN
TZID:Europe/Paris
X-WR-TIMEZONE:Europe/Paris
BEGIN:VEVENT
UID:39@afaf.asso.fr
DTSTART;TZID=Europe/Paris:20251018T190000
DTEND;TZID=Europe/Paris:20251018T190000
DTSTAMP:20250708T165350Z
URL:https://www.afaf.asso.fr/events/chorale-la-voce-della-dante/
SUMMARY:CHORALE « La Voce Della Dante »
DESCRIPTION:Samedi 18 octobre\, venez écouter la chorale "La voce Della Da
 nte"\, qui se produira au profit de l'Association française de l'ataxie d
 e Friedreich.\n\nCheffe de choeur : Françoise GAILLARD\n\nPianiste-Organi
 ste : Antoine METELIN\n\nEntrée au « Chapeau ».\n\nLe spectacle s’ach
 èvera par un moment convivial avec les artistes\n\nRéservations : 06 76
  66 91 94    margueritevallat@gmail.com\n\n&nbsp\;
ATTACH;FMTTYPE=image/jpeg:https://www.afaf.asso.fr/wp-content/uploads/2025
 /06/chorale.jpg
CATEGORIES:Évènement artistique
LOCATION:Temple de l'Eglise Réformée\, 14 Rue de la Réforme\, Limoges\, 
 87000\, France
GEO:45.835554;1.258913
X-APPLE-STRUCTURED-LOCATION;VALUE=URI;X-ADDRESS=14 Rue de la Réforme\, Lim
 oges\, 87000\, France;X-APPLE-RADIUS=100;X-TITLE=Temple de l'Eglise Réfor
 mée:geo:45.835554,1.258913
END:VEVENT
BEGIN:VTIMEZONE
TZID:Europe/Paris
X-LIC-LOCATION:Europe/Paris
BEGIN:DAYLIGHT
DTSTART:20250330T030000
TZOFFSETFROM:+0100
TZOFFSETTO:+0200
TZNAME:CEST
END:DAYLIGHT
END:VTIMEZONE
END:VCALENDAR